Workbook
Name ConsoAvant: 'Réservé HQ'!$C$11
Name DiagAvant: 'Réservé HQ'!$C$13
Name ISOErreur1: RefMenu!$C$60
Name ISOErreur2: RefMenu!$C$61
Name ISOErreur3: RefMenu!$C$62
Name MaxAvance: RefMenu!$F$35
Name MaxConsult: RefMenu!$F$33
Name MaxDiag: RefMenu!$F$30
Name MaxImplant: RefMenu!$F$34
Name MaxMVAn: RefMenu!$F$36
Name MaxMVTotal: RefMenu!$F$37
Name MaxSGE: RefMenu!$F$31
Name MaxSIGE: RefMenu!$F$32
Name Pour100HQ: 'Réservé HQ'!$C$10
Name ReductionMax: RefMenu!$F$38
Name SGEAvant: 'Réservé HQ'!$C$14
Name SIGEAvant: 'Réservé HQ'!$C$15
Name tarif: Inscription!$J$18
Name TotalAvant: 'Réservé HQ'!$D$13
Name VerifAdmissible: 'ISO 50001'!$E$10

Sheet RefMenu
B2: Onglet inscription
C4: Liste des fournisseurs d'électricité
B5: * défaut | C5: Hydro-Québec
C6: Coopérative régionale d’électricité de Saint-Jean-Baptiste-de-Rouville
C7: Hydro-Coaticook
C8: Hydro-Joliette
C9: Hydro-Jonquière (Ville de Saguenay)
C10: Hydro-Magog
C11: Hydro-Sherbrooke
C12: Hydro Westmount
C13: Service d’électricité de la Ville d’Alma
C14: Service d’électricité de la Ville d’Amos
C15: Service d’électricité de la Ville de Baie-Comeau
C21: Liste : | G21: Liste :
C22: Tarif L | G22: Oui
C23: Contrat spécial | G23: Non
C24: Autre | G24: À déterminer
B28: Table des Appuis Implantation
B29: Description | C29: MaxProgramme | D29: MaxPortionHQ | E29: Nom_Cellule | F29: Valeur
B30: Montant maximal Analyse diagnostique | C30: 50000 | D30: =Tableau4[[#This Row],[MaxProgramme]]*Pour100HQ -> 0 | E30: MaxDiag | F30: =Tableau4[[#This Row],[MaxPortionHQ]]-DiagAvant -> 0
B31: Montant maximal Mise en place du SGE | C31: 350000 | D31: =Tableau4[[#This Row],[MaxProgramme]]*Pour100HQ -> 0 | E31: MaxSGE | F31: =Tableau4[[#This Row],[MaxPortionHQ]]-SGEAvant -> 0
B32: Montant maximal Mise en place du SIGE | C32: 350000 | D32: =Tableau4[[#This Row],[MaxProgramme]]*Pour100HQ -> 0 | E32: MaxSIGE | F32: =Tableau4[[#This Row],[MaxPortionHQ]]-SIGEAvant -> 0
B33: Montant maximal Consultant de l'énergie | C33: 50000 | D33: =Tableau4[[#This Row],[MaxProgramme]]*Pour100HQ -> 0 | E33: MaxConsult | F33: =Tableau4[[#This Row],[MaxPortionHQ]] -> 0
B34: Montant maximal Implantation | C34: 500000 | D34: =Tableau4[[#This Row],[MaxProgramme]]*Pour100HQ -> 0 | E34: MaxImplant | F34: =Tableau4[[#This Row],[MaxPortionHQ]]-TotalAvant -> 0
B35: Montant maximal de l'appui devancé | C35: 200000 | D35: =Tableau4[[#This Row],[MaxProgramme]]*Pour100HQ -> 0 | E35: MaxAvance | F35: =MAX(Tableau4[[#This Row],[MaxProgramme]]-ReductionMax,Tableau4[[#This Row],[MaxPortionHQ]]) -> 175000
B36: Montant maximal annuel M&V | C36: 10000 | D36: =Tableau4[[#This Row],[MaxProgramme]]*Pour100HQ -> 0 | E36: MaxMVAn | F36: =Tableau4[[#This Row],[MaxPortionHQ]] -> 0
B37: Montant maximal total M&V | C37: 50000 | D37: =Tableau4[[#This Row],[MaxProgramme]]*Pour100HQ -> 0 | E37: MaxMVTotal | F37: =Tableau4[[#This Row],[MaxPortionHQ]] -> 0
B38: Montant maximal de réduction de l'avance | C38: 25000 | E38: ReductionMax | F38: =Tableau4[[#This Row],[MaxProgramme]] -> 25000
B40: Table des Appuis pour Certification ISO selon la Consommation
B41: Consommation min | C41: Consommation max | D41: Appui
B42: 1 | C42: 25000000 | D42: 50000 | E42: $
B43: =C42 -> 25000000 | C43: 50000000 | D43: 125000 | E43: $
B44: =C43 -> 50000000 | C44: 100000000 | D44: 250000 | E44: $
B45: =C44 -> 100000000 | C45: 200000000 | D45: 500000 | E45: $
B46: =C45 -> 200000000 | D46: 1000000 | E46: $
B48: Table des Appuis pour Certification ISO selon le délai de transmission
B49: Mois_Min | C49: Mois_Max | D49: Pourcentage
B50: 0 | C50: 15 | D50: 1
B51: 15 | C51: 27 | D51: 0.5
B52: 27 | D52: 0
B54: Table des Appuis pour l'incitatif à la performance
B55: Tarif | C55: Appui | D55: Maximum
B56: Tarif L | C56: 0.2 | D56: 9999999999
B57: Contrat spécial | C57: 0.1 | D57: 5000000
B59: Message d'erreur
B60: ISOErreur1 | C60: Un Site ayant déjà reçu une certification ISO 50001, pour tout ou partie du Site, y compris les Sites couverts par une certification de type « parapluie », n'est pas éligible à la prime.
B61: ISOErreur2 | C61: Un Site soumis à un contrat spécial n'est pas éligible à la prime.
B62: ISOErreur3 | C62: La date d'obtention de la certification ISO 50001 précède la Date de démarrage du Projet et le site n'est pas éligible à la prime.

Sheet Réservé HQ
A2: #VALUE! | B2: Section réservée à l'Administration d'Hydro-Québec Programme Système de gestion de l'énergie
A4: Section 1 – Information sur le projet
A5: Date de démarrage du Projet (AAAA-MM-JJ)
A6: N° de projet HQ - Implantion
A7: N° de projet HQ - Certification ISO 50001
A9: Est-ce que le Projet sera soumis chez Énergir ? | C9: =Inscription!F21 -> 0
A10: Pourcentage d'appuis financiers d'Hydro-Québec
A11: Consommation d'électricité avant projet (kWh/an)
A12: Section 2 - Montants d'Appuis financiers versés dans le cadre du Programme SGEÉ (ancienne version)
A13: Analyse diagnostique | D13: =SUM(C13:C15) -> 0
A14: Mise en place SGE
A15: Mise en place SIGE
A16: Numéros de projets
A19: Nom de l’entreprise (tel qu’il figure dans le registre des entreprises) | C19: =Inscription!A8 -> 0
A20: Nom de l’usine ou du Site | C20: =Inscription!A13 -> 0
A21: Adresse du site | C21: =Inscription!A15 -> 0
A22: Ville du site | C22: =Inscription!F15 -> 0
A23: Code postal du site | C23: =Inscription!J15 -> 0
A24: Date de démarrage du Projet (AAAA-MM-JJ) | C24: =C5 -> 0
A25: N° de projet HQ - Implantion | C25: =C6 -> 0
A26: N° de projet HQ - Certification ISO 50001 | C26: =C7 -> 0
A27: Montant maximum d'appui financier pour implantation | C27: ='Mois 3'!D24 -> 0
A28: Montant potentiel de la prime de Certification ISO 500001 | C28: ='ISO 50001'!D22 -> 0

Sheet Inscription
A2: #VALUE! | D2: Formulaire d'inscription Programme Système de gestion de l'énergie
A4: Remplissez ce formulaire et transmettez-le à | G4: Nº de projet - Implantation | J4: Date de démarrage du Projet (AAAA-MM-JJ)
A5: ProgrammeSGE@hydroquebec.com | G5: ='Réservé HQ'!C6 -> 0 | J5: ='Réservé HQ'!C5 -> 0
A6: Section 1 – Identification de l'entreprise Participante
A7: Nom de l’entreprise (tel qu’il figure dans le registre des entreprises) | J7: Nº d’entreprise du Québec (NEQ)
A9: Adresse | F9: Ville | J9: Code postal
A11: Section 2 – Site de réalisation du Projet et sources énergétiques
A12: Nom de l’usine ou du Site
A14: Adresse | F14: Ville | J14: Code postal
A16: Électricité
A17: Nom du fournisseur | G17: #VALUE! | H17: Nº du compte | J17: Tarif d'électricité
A19: Seuls les abonnements au tarif L et les contrats spéciaux sont admissibles au Programme SGE.
A20: Gaz naturel
A21: Est-ce que vous êtes client d'Énergir ?
A22: Souhaitez-vous soumettre une demande d'appui financier pour le SGE à Énergir ?
A23: J'autorise Hydro-Québec à communiquer mes données à Énergir | H23: Nº du compte Énergir
A24: Section 3 - Information complémentaire sur le Projet
A25: Est-ce que le Site possède la Certification ISO 500001 pour tout ou une partie du Site, y compris une certification de type « parapluie » ?
A26: Si vous avez répondu non à la question précédente, est-ce que le Projet vise une Certification ISO 50001 ?
A27: Avez-vous signé un Avis d'intérêt ? | E27: Si oui, indiquez la Date de signature de l'Avis d'intérêt (AAAA-MM-JJ)
A28: Section 4 – Liste des contacts du participant pour le projet
A29: Responsable du Projet et signataire autorisé
A30: Prénom et nom | F30: Fonction
A32: Nº de téléphone | C32: Nº de cellulaire | F32: Courriel
A35: Responsable technique
A36: Prénom et nom | F36: Fonction
A38: Nº de téléphone | C38: Nº de cellulaire | F38: Courriel
A40: Autre
A41: Prénom et nom | F41: Fonction
A43: Nº de téléphone | C43: Nº de cellulaire | F43: Courriel
A45: Section 5 – Identification du partenaire (le cas échéant) Si vous travaillez déjà avec un partenaire veuillez l'indiquer ici.
A46: Nom de l’entreprise (tel qu’il figure dans le registre des entreprises) | J46: Nº d’entreprise du Québec (NEQ)
A48: Adresse | F48: Ville | J48: Code postal
A51: Prénom et nom | F51: Fonction
A53: Nº de téléphone | C53: Nº de cellulaire | F53: Courriel

Sheet Sommaire
A2: #VALUE! | D2: Sommaire des appuis financiers Programme Système de gestion de l'énergie
A4: Identification du Projet et du Participant
A5: Nom de l’entreprise (tel qu’il figure dans le registre des entreprises) | H5: Nº d’entreprise du Québec | J5: Date de démarrage du Projet
A6: =Inscription!A8 -> 0 | H6: =Inscription!J8 -> 0 | J6: ='Réservé HQ'!C5 -> 0
A7: Nom de l’usine ou du Site | J7: Nº de projet - Implantation
A8: =Inscription!A13 -> 0 | J8: ='Réservé HQ'!C6 -> 0
A9: Section 1 - Sommaire des appuis pour l'implantation
A10: Période | B10: Avance | C10: Diagnostique | D10: Avancement | E10: Implantation / Performance | J10: Performance | K10: Cumulatif ($)
C11: Mois 3 | D11: Mois 9 | E11: Mois 15 | F11: Mois 27 | G11: Mois 39 | H11: Mois 51 | I11: Mois 63 | J11: Mois 75
A12: Date limite visée | B12: =Anticipé!F11 -> 0 | C12: ='Mois 3'!F11 -> 0 | D12: ='Mois 9'!F11 -> 0 | E12: ='Mois 15'!F11 -> 0 | F12: ='Mois 27'!F11 -> 0 | G12: ='Mois 39'!F11 -> 0 | H12: ='Mois 51'!F11 -> 0 | I12: ='Mois 63'!F11 -> 0 | J12: ='Mois 75'!F11 -> 0
A13: Montants admissibles engagés par le participant ($)
A14: Analyse diagnostique | C14: ='Mois 3'!B19 -> 0 | D14: ='Mois 9'!B19 -> 0 | E14: ='Mois 15'!B19 -> 0 | F14: ='Mois 27'!B19 -> 0 | G14: ='Mois 39'!B19 -> 0 | H14: ='Mois 51'!B19 -> 0 | I14: ='Mois 63'!B19 -> 0 | J14: ='Mois 75'!B19 -> 0 | K14: =SUM(C14:J14) -> 0
A15: Implantation du SGE | C15: ='Mois 3'!B20 -> 0 | D15: ='Mois 9'!B20 -> 0 | E15: ='Mois 15'!B20 -> 0 | F15: ='Mois 27'!B20 -> 0 | G15: ='Mois 39'!B20 -> 0 | H15: ='Mois 51'!B20 -> 0 | I15: ='Mois 63'!B20 -> 0 | J15: ='Mois 75'!B20 -> 0 | K15: =SUM(C15:J15) -> 0
A16: Impantation du SIGE | C16: ='Mois 3'!B21 -> 0 | D16: ='Mois 9'!B21 -> 0 | E16: ='Mois 15'!B21 -> 0 | F16: ='Mois 27'!B21 -> 0 | G16: ='Mois 39'!B21 -> 0 | H16: ='Mois 51'!B21 -> 0 | I16: ='Mois 63'!B21 -> 0 | J16: ='Mois 75'!B21 -> 0 | K16: =SUM(C16:J16) -> 0
A17: Consultant de l'énergie | C17: ='Mois 3'!B22 -> 0 | D17: ='Mois 9'!B22 -> 0 | E17: ='Mois 15'!B22 -> 0 | F17: ='Mois 27'!B22 -> 0 | G17: ='Mois 39'!B22 -> 0 | H17: ='Mois 51'!B22 -> 0 | I17: ='Mois 63'!B22 -> 0 | J17: ='Mois 75'!B22 -> 0 | K17: =SUM(C17:J17) -> 0
A18: Mesurage et vérification | C18: ='Mois 3'!B23 -> 0 | D18: ='Mois 9'!B23 -> 0 | E18: ='Mois 15'!B23 -> 0 | F18: ='Mois 27'!B23 -> 0 | G18: ='Mois 39'!B23 -> 0 | H18: ='Mois 51'!B23 -> 0 | I18: ='Mois 63'!B23 -> 0 | J18: ='Mois 75'!B23 -> 0 | K18: =SUM(C18:J18) -> 0
A19: Total ($) | C19: =SUM(C14:C18) -> 0 | D19: =SUM(D14:D18) -> 0 | E19: =SUM(E14:E18) -> 0 | F19: =SUM(F14:F18) -> 0 | G19: =SUM(G14:G18) -> 0 | H19: =SUM(H14:H18) -> 0 | I19: =SUM(I14:I18) -> 0 | J19: =SUM(J14:J18) -> 0 | K19: =SUM(K14:K18) -> 0
A20: Appui financier d'Hydro-Québec ($)
A21: Appui calculé | C21: ='Mois 3'!$E$24 -> 0 | D21: ='Mois 9'!$E$24 -> 0 | E21: ='Mois 15'!$E$24 -> 0 | F21: ='Mois 27'!$E$24 -> 0 | G21: ='Mois 39'!$E$24 -> 0 | H21: ='Mois 51'!$E$24 -> 0 | I21: ='Mois 63'!$E$24 -> 0 | J21: ='Mois 75'!$E$24 -> 0 | K21: =SUM(B21:J21) -> 0
A22: Versement | B22: =Anticipé!E32 -> 0 | C22: ='Mois 3'!$E$27 -> 0 | D22: ='Mois 9'!$E$27 -> 0 | E22: ='Mois 15'!$E$27 -> 0 | F22: ='Mois 27'!$E$27 -> 0 | G22: ='Mois 39'!$E$27 -> 0 | H22: ='Mois 51'!$E$27 -> 0 | I22: ='Mois 63'!$E$27 -> 0 | J22: ='Mois 75'!$E$27 -> 0 | K22: =SUM(B22:J22) -> 0
A23: Maximum disponible | C23: ='Mois 3'!$D$24 -> 0 | D23: ='Mois 9'!$D$24 -> 0 | E23: ='Mois 15'!$D$24 -> 0 | F23: ='Mois 27'!$D$24 -> 0 | G23: ='Mois 39'!$D$24 -> 0 | H23: ='Mois 51'!$D$24 -> 0 | I23: ='Mois 63'!$D$24 -> 0 | J23: ='Mois 75'!$D$24 -> 0
A24: Section 2 - Sommaire de la prime pour l'obtention de la certification ISO 50001
A25: N° de Projet - Certification | C25: Date de la demande de certification | F25: Prime potentielle selon la consommation annuelle ($) | K25: ='ISO 50001'!D22 -> 0
A26: ='ISO 50001'!F29 -> 0 | C26: ='ISO 50001'!F17 -> 45703
A27: Date de transmission à Hydro-Québec du Formulaire de demande de certification et de la Certification | F27: Prime de certification ISO 50001 admissible ($) | K27: ='ISO 50001'!D24 -> 0
A28: ='ISO 50001'!F18 -> 46067
A30: Section 3 - Sommaire des incitatifs à la performance
B31: N° de Projet | D31: Période de suivi | F31: Économies (kWh/an) | H31: Prime à la performance ($) | J31: Cumulatif de la Prime ($)
A32: Rapport #1 | B32: ='Perfo. - 1'!$G$26 -> 0 | D32: ='Perfo. - 1'!$A$12 -> 0 | E32: ='Perfo. - 1'!$C$12 -> 0 | F32: ='Perfo. - 1'!$G$17 -> 0 | H32: ='Perfo. - 1'!$G$19 -> 0 | J32: =H32 -> 0
A33: Rapport #2 | B33: ='Perfo. - 2'!$G$26 -> 0 | D33: ='Perfo. - 2'!$A$12 -> 0 | E33: ='Perfo. - 2'!$C$12 -> 0 | F33: ='Perfo. - 2'!$G$17 -> 0 | H33: ='Perfo. - 2'!$G$19 -> 0 | J33: =$J$32+H33 -> 0
A34: Rapport #3 | B34: ='Perfo. - 3'!$G$26 -> 0 | D34: ='Perfo. - 3'!$A$12 -> 0 | E34: ='Perfo. - 3'!$C$12 -> 0 | F34: ='Perfo. - 3'!$G$17 -> 0 | H34: ='Perfo. - 3'!$G$19 -> 0 | J34: =$J$33+H34 -> 0
A35: Rapport #4 | B35: ='Perfo. - 4'!$G$26 -> 0 | D35: ='Perfo. - 4'!$A$12 -> 0 | E35: ='Perfo. - 4'!$C$12 -> 0 | F35: ='Perfo. - 4'!$G$17 -> 0 | H35: ='Perfo. - 4'!$G$19 -> 0 | J35: =$J$34+H35 -> 0
A36: Rapport #5 | B36: ='Perfo. - 5'!$G$26 -> 0 | D36: ='Perfo. - 5'!$A$12 -> 0 | E36: ='Perfo. - 5'!$C$12 -> 0 | F36: ='Perfo. - 5'!$G$17 -> 0 | H36: ='Perfo. - 5'!$G$19 -> 0 | J36: =J35+H36 -> 0
A37: Total ($) | F37: =SUM(F32:G36) -> 0 | H37: =SUM(H32:I36) -> 0

Sheet Anticipé
A2: #VALUE! | D2: Formulaire - Demande d'appui financier anticipé Programme Système de gestion de l'énergie
A4: Identification du Projet et du Participant
A5: Nom de l’entreprise (tel qu’il figure dans le registre des entreprises) | E5: Nº d’entreprise du Québec | F5: Date de démarrage du Projet
A6: =Inscription!A8 -> 0 | E6: =Inscription!J8 -> 0 | F6: ='Réservé HQ'!C5 -> 0
A7: Nom de l’usine ou du Site | F7: Nº de projet - Implantation
A8: =Inscription!A13 -> 0 | F8: ='Réservé HQ'!C6 -> 0
A10: Remplissez ce formulaire uniquement si vous souhaitez recevoir l’Appui financier anticipé. Transmettez-le à la ressource technique d'Hydro-Québec en incluant les offres de services ou la planification budgétaire le cas échéant . | F10: Date limite visée pour le dépôt à Hydro-Québec
F12: =IF(F6<>0,EDATE(F6,1),0) -> 0
A13: Section 1 - Appuis financiers d'autres sources
A14: Dans le cadre du Projet, avez-vous reçu ou prévoyez-vous recevoir des appuis financiers provenant d’autres sources qu'Hydro-Québec et Énergir ?
A15: Si oui, précisez :
A16: Section 3 - Description sommaire des activités prévues couvertes par l'appui financier anticipé Cette section doit permettre de comprendre les activités qui seront réalisées et le périmètre visé dans le cadre de l'appui anticipé.
A20: Section 3 - Calcul du montant de l'appui financier anticipé
D21: #VALUE!
C22: Coûts admissibles prévus ($) A | D22: Appuis financiers maximums ($) B | F22: Appui financier calculé ($) C = MIN (95% * A ; B)
A23: Analyse diagnostique | D23: =MaxDiag -> 0 | E23: =MaxImplant -> 0 | F23: =IF(G14="non",MIN(SUM(MIN(0.95*C23,D24),MIN(0.95*C24,D25),MIN(0.95*C23,D23)),E23),0) -> 0
A24: Implantation du SGE | D24: =MaxSGE -> 0
A25: Implantation du SIGE | D25: =MaxSIGE -> 0
A26: Consultant de l'énergie | D26: =MaxConsult -> 0 | E26: =D26 -> 0 | F26: =IF(G14="non",MIN(C25*0.95,D26),0) -> 0
A27: Mesurage et vérification | D27: =MIN(MaxMVAn,E27) -> 0 | E27: =MaxMVTotal -> 0
A28: Total ($) | C28: =SUM(C23:C27) -> 0 | E28: =SUM(E23:E27) -> 0 | F28: =SUM(F23:F27) -> 0
A30: Calcul du versement d'Hydro-Québec
A31: Montant anticipé maximum ($) | E31: =MaxAvance -> 175000 | F31: D
A32: Versement anticipé ($) | E32: =MIN(F28,E31) -> 0 | F32: E = MIN (C ; D)

Sheet Mois 3
A2: #VALUE! | D2: Formulaire - Demande d'appui financier au 3ᵉ mois Programme Système de gestion de l'énergie
A4: Identification du Projet et du Participant
A5: Nom de l’entreprise (tel qu’il figure dans le registre des entreprises) | E5: Nº d’entreprise du Québec | G5: Date de démarrage du Projet
A6: =Inscription!A8 -> 0 | E6: =Inscription!J8 -> 0 | G6: ='Réservé HQ'!C5 -> 0
A7: Nom de l’usine ou du Site | F7: Nº de projet - Implantation
A8: =Inscription!A13 -> 0 | F8: ='Réservé HQ'!C6 -> 0
A9: Section 1 - Période couverte par la présente demande d'appui financier
A10: Date de début | C10: Date de fin | F10: Date limite visée pour le dépôt à Hydro-Québec
A11: =IF(Inscription!$D$27="Oui",Inscription!$J$27,$F$6) -> 0 | F11: =IF(G6<>0,EDATE(G6,3),0) -> 0
A12: Section 2 - Appuis financiers d'autres sources
A13: Dans le cadre du Projet, avez-vous reçu ou prévoyez-vous recevoir des appuis financiers provenant d’autres sources qu'Hydro-Québec et Énergir ?
A14: Si oui, précisez :
A16: Section 3 - Calcul de l'appui financier - Hydro-Québec
C17: #VALUE!
B18: Coûts admissibles ($) A | C18: Appuis financiers maximums ($) B = D Période précédente | E18: Appui financier calculé ($) C = MIN (95% * A ; B) | F18: Appuis financiers maximums pour la prochaine période ($) D = B - C
A19: Analyse diagnostique | C19: =MaxDiag -> 0 | D19: =MaxImplant -> 0 | E19: =IF(G13="non",MIN(SUM(MIN(0.95*B20,C20),MIN(0.95*B21,C21),MIN(0.95*B19,C19)),D19),0) -> 0 | G19: =D19-MIN(D19,E19) -> 0
A20: Implantation du SGE | C20: =MaxSGE -> 0 | F20: =C20-MIN(C20,B20*0.95) -> 0
A21: Impantation du SIGE | C21: =MaxSIGE -> 0 | F21: =C21-MIN(C21,B21*0.95) -> 0
A22: Consultant de l'énergie | C22: =MaxConsult -> 0 | D22: =C22 -> 0 | E22: =IF(G13="non",MIN(B22*0.95,C22),0) -> 0 | F22: =C22-E22 -> 0 | G22: =F22 -> 0
A23: Mesurage et vérification | C23: =MIN(MaxMVAn,D23) -> 0 | D23: =MaxMVTotal -> 0 | E23: =IF(G13="non",MIN(0.95*B23,C23),0) -> 0 | F23: =MIN(MaxMVAn,G23) -> 0 | G23: =IF(E23=0,D23,D23-MaxMVAn) -> 0
A24: Total | B24: =SUM(B19:B23) -> 0 | D24: =SUM(D19:D23) -> 0 | E24: =SUM(E19:E23) -> 0 | G24: =SUM(G19:G23) -> 0
A25: Section 4 - Calcul du versement d'Hydro-Québec pour la période
A26: Montant anticipé résiduel avant la période ($) | E26: =Anticipé!E32 -> 0 | F26: E = G de la période précédente
A27: Versement admissible pour la période ($) | E27: =IF(E24>E26,E24-E26,0) -> 0 | F27: F = MIN ( C - F ; 0 )
A28: L’appui financier est débité du montant anticipé et aucun montant supplémentaire n'est versé pour la période.
A29: Montant anticipé résiduel après la période ($) | E29: =IF(E27>0,0,E26-E24) -> 0 | F29: G = MIN ( E - C ; 0 )

Sheet Mois 9
A2: #VALUE! | D2: Formulaire - Demande d'appui financier au 9ᵉ mois Programme Système de gestion de l'énergie
A4: Identification du Projet et du Participant
A5: Nom de l’entreprise (tel qu’il figure dans le registre des entreprises) | E5: Nº d’entreprise du Québec | G5: Date de démarrage du Projet
A6: =Inscription!A8 -> 0 | E6: =Inscription!J8 -> 0 | G6: ='Réservé HQ'!C5 -> 0
A7: Nom de l’usine ou du Site | F7: Nº de projet - Implantation
A8: =Inscription!A13 -> 0 | F8: ='Réservé HQ'!C6 -> 0
A9: Section 1 - Période couverte par la présente demande d'appui financier
A10: Date de début | C10: Date de fin | F10: Date limite visée pour le dépôt à Hydro-Québec
A11: ='Mois 3'!C11 -> 0 | F11: =IF(G6<>0,EDATE(G6,9),0) -> 0
A12: Section 2 - Appuis financiers d'autres sources
A13: Dans le cadre du Projet, avez-vous reçu ou prévoyez-vous recevoir des appuis financiers provenant d’autres sources qu'Hydro-Québec et Énergir ?
A14: Si oui, précisez :
A16: Section 3 - Calcul de l'appui financier - Hydro-Québec
C17: #VALUE!
B18: Coûts admissibles ($) A | C18: Appuis financiers maximums ($) B = D Période précédente | E18: Appui financier calculé ($) C = MIN (95% * A ; B) | F18: Appuis financiers maximums pour la prochaine période ($) D = B - C
A19: Analyse diagnostique | C19: ='Mois 3'!F19 -> 0 | D19: ='Mois 3'!G19 -> 0 | E19: =IF(G13="non",MIN(SUM(MIN(0.95*B20,C20),MIN(0.95*B21,C21),MIN(0.95*B19,C19)),D19),0) -> 0 | F19: 0 | G19: =D19-MIN(D19,E19) -> 0
A20: Implantation du SGE | C20: ='Mois 3'!F20 -> 0 | F20: =C20-MIN(C20,B20*0.95) -> 0
A21: Impantation du SIGE | C21: ='Mois 3'!F21 -> 0 | F21: =C21-MIN(C21,B21*0.95) -> 0
A22: Consultant de l'énergie | C22: ='Mois 3'!F22 -> 0 | D22: ='Mois 3'!G22 -> 0 | E22: =IF(G13="non",MIN(B22*0.95,C22),0) -> 0 | F22: =C22-E22 -> 0 | G22: =F22 -> 0
A23: Mesurage et vérification | C23: =MIN(MaxMVAn,D23) -> 0 | D23: ='Mois 3'!G23 -> 0 | E23: =IF(G13="non",MIN(0.95*B23,C23),0) -> 0 | F23: =MIN(MaxMVAn,G23) -> 0 | G23: =IF(E23=0,D23,D23-MaxMVAn) -> 0
A24: Total | B24: =SUM(B19:B23) -> 0 | D24: =SUM(D19:D23) -> 0 | E24: =SUM(E19:E23) -> 0 | G24: =SUM(G19:G23) -> 0
A25: Section 4 - Calcul du versement d'Hydro-Québec pour la période
A26: Montant anticipé résiduel avant la période ($) | E26: ='Mois 3'!E29 -> 0 | F26: E = G de la période précédente
A27: Versement admissible pour la période ($) | E27: =IF(E24>E26,E24-E26,0) -> 0 | F27: F = MIN ( C - F ; 0 )
A28: L’appui financier est débité du montant anticipé et aucun montant supplémentaire n'est versé pour la période.
A29: Montant anticipé résiduel après la période ($) | E29: =IF(E27>0,0,E26-E24) -> 0 | F29: G = MIN ( E - C ; 0 )

Sheet Mois 15
A2: #VALUE! | D2: Formulaire - Demande d'appui financier au 15ᵉ mois Programme Système de gestion de l'énergie
A4: Identification du Projet et du Participant
A5: Nom de l’entreprise (tel qu’il figure dans le registre des entreprises) | E5: Nº d’entreprise du Québec | G5: Date de démarrage du Projet
A6: =Inscription!A8 -> 0 | E6: =Inscription!J8 -> 0 | G6: ='Réservé HQ'!C5 -> 0
A7: Nom de l’usine ou du Site | F7: Nº de projet - Implantation
A8: =Inscription!A13 -> 0 | F8: ='Réservé HQ'!C6 -> 0
A9: Section 1 - Période couverte par la présente demande d'appui financier
A10: Date de début | C10: Date de fin | F10: Date limite visée pour le dépôt à Hydro-Québec
A11: ='Mois 9'!C11 -> 0 | F11: =IF(G6<>0,EDATE(G6,15),0) -> 0
A12: Section 2 - Appuis financiers d'autres sources
A13: Dans le cadre du Projet, avez-vous reçu ou prévoyez-vous recevoir des appuis financiers provenant d’autres sources qu'Hydro-Québec et Énergir ?
A14: Si oui, précisez :
A16: Section 3 - Calcul de l'appui financier - Hydro-Québec
C17: #VALUE!
B18: Coûts admissibles ($) A | C18: Appuis financiers maximums ($) B = D Période précédente | E18: Appui financier calculé ($) C = MIN (95% * A ; B) | F18: Appuis financiers maximums pour la prochaine période ($) D = B - C
A19: Analyse diagnostique | C19: ='Mois 9'!F19 -> 0 | D19: ='Mois 9'!G19 -> 0 | E19: =IF(G13="non",MIN(SUM(MIN(0.95*B20,C20),MIN(0.95*B21,C21),MIN(0.95*B19,C19)),D19),0) -> 0 | F19: 0 | G19: =D19-MIN(D19,E19) -> 0
A20: Implantation du SGE | C20: ='Mois 9'!F20 -> 0 | F20: =C20-MIN(C20,B20*0.95) -> 0
A21: Impantation du SIGE | C21: ='Mois 9'!F21 -> 0 | F21: =C21-MIN(C21,B21*0.95) -> 0
A22: Consultant de l'énergie | C22: ='Mois 9'!F22 -> 0 | D22: ='Mois 9'!G22 -> 0 | E22: =IF(G13="non",MIN(B22*0.95,C22),0) -> 0 | F22: =C22-E22 -> 0 | G22: =F22 -> 0
A23: Mesurage et vérification | C23: =MIN(MaxMVAn,D23) -> 0 | D23: ='Mois 9'!G23 -> 0 | E23: =IF(G13="non",MIN(0.95*B23,C23),0) -> 0 | F23: =MIN(MaxMVAn,G23) -> 0 | G23: =IF(E23=0,D23,D23-MaxMVAn) -> 0
A24: Total | B24: =SUM(B19:B23) -> 0 | D24: =SUM(D19:D23) -> 0 | E24: =SUM(E19:E23) -> 0 | G24: =SUM(G19:G23) -> 0
A25: Section 4 - Calcul du versement d'Hydro-Québec pour la période
A26: Montant anticipé résiduel avant la période ($) | E26: ='Mois 9'!E29 -> 0 | F26: E = G de la période précédente
A27: Versement admissible pour la période ($) | E27: =IF(E24>E26,E24-E26,0) -> 0 | F27: F = MIN ( C - F ; 0 )
A28: L’appui financier est débité du montant anticipé et aucun montant supplémentaire n'est versé pour la période.
A29: Montant anticipé résiduel après la période ($) | E29: =IF(E27>0,0,E26-E24) -> 0 | F29: G = MIN ( E - C ; 0 )

Sheet Mois 27
A2: #VALUE! | D2: Formulaire - Demande d'appui financier au 27ᵉ mois Programme Système de gestion de l'énergie
A4: Identification du Projet et du Participant
A5: Nom de l’entreprise (tel qu’il figure dans le registre des entreprises) | E5: Nº d’entreprise du Québec | G5: Date de démarrage du Projet
A6: =Inscription!A8 -> 0 | E6: =Inscription!J8 -> 0 | G6: ='Réservé HQ'!C5 -> 0
A7: Nom de l’usine ou du Site | F7: Nº de projet - Implantation
A8: =Inscription!A13 -> 0 | F8: ='Réservé HQ'!C6 -> 0
A9: Section 1 - Période couverte par la présente demande d'appui financier
A10: Date de début | C10: Date de fin | F10: Date limite visée pour le dépôt à Hydro-Québec
A11: ='Mois 15'!C11 -> 0 | F11: =IF(G6<>0,EDATE(G6,27),0) -> 0
A12: Section 2 - Appuis financiers d'autres sources
A13: Dans le cadre du Projet, avez-vous reçu ou prévoyez-vous recevoir des appuis financiers provenant d’autres sources qu'Hydro-Québec et Énergir ?
A14: Si oui, précisez :
A16: Section 3 - Calcul de l'appui financier - Hydro-Québec
C17: #VALUE!
B18: Coûts admissibles ($) A | C18: Appuis financiers maximums ($) B = D Période précédente | E18: Appui financier calculé ($) C = MIN (95% * A ; B) | F18: Appuis financiers maximums pour la prochaine période ($) D = B - C
A19: Analyse diagnostique | C19: ='Mois 15'!F19 -> 0 | D19: ='Mois 15'!G19 -> 0 | E19: =IF(G13="non",MIN(SUM(MIN(0.95*B20,C20),MIN(0.95*B21,C21),MIN(0.95*B19,C19)),D19),0) -> 0 | F19: 0 | G19: =D19-MIN(D19,E19) -> 0
A20: Implantation du SGE | C20: ='Mois 15'!F20 -> 0 | F20: =C20-MIN(C20,B20*0.95) -> 0
A21: Impantation du SIGE | C21: ='Mois 15'!F21 -> 0 | F21: =C21-MIN(C21,B21*0.95) -> 0
A22: Consultant de l'énergie | C22: ='Mois 15'!F22 -> 0 | D22: ='Mois 15'!G22 -> 0 | E22: =IF(G13="non",MIN(B22*0.95,C22),0) -> 0 | F22: =C22-E22 -> 0 | G22: =F22 -> 0
A23: Mesurage et vérification | C23: =MIN(MaxMVAn,D23) -> 0 | D23: ='Mois 15'!G23 -> 0 | E23: =IF(G13="non",MIN(0.95*B23,C23),0) -> 0 | F23: =MIN(MaxMVAn,G23) -> 0 | G23: =D23-MaxMVAn -> 0
A24: Total | B24: =SUM(B19:B23) -> 0 | D24: =SUM(D19:D23) -> 0 | E24: =SUM(E19:E23) -> 0 | G24: =SUM(G19:G23) -> 0
A25: Section 4 - Calcul du versement d'Hydro-Québec pour la période
A26: Montant anticipé résiduel avant la période ($) | E26: ='Mois 15'!E29 -> 0 | F26: E = G de la période précédente
A27: Versement admissible pour la période ($) | E27: =IF(E24>E26,E24-E26,0) -> 0 | F27: F = MIN ( C - F ; 0 )
A28: L’appui financier est débité du montant anticipé et aucun montant supplémentaire n'est versé pour la période.
A29: Montant anticipé résiduel après la période ($) | E29: =IF(E27>0,0,E26-E24) -> 0 | F29: G = MIN ( E - C ; 0 )

Sheet Mois 39
A2: #VALUE! | D2: Formulaire - Demande d'appui financier au 39ᵉ mois Programme Système de gestion de l'énergie
A4: Identification du Projet et du Participant
A5: Nom de l’entreprise (tel qu’il figure dans le registre des entreprises) | E5: Nº d’entreprise du Québec | G5: Date de démarrage du Projet
A6: =Inscription!A8 -> 0 | E6: =Inscription!J8 -> 0 | G6: ='Réservé HQ'!C5 -> 0
A7: Nom de l’usine ou du Site | F7: Nº de projet - Implantation
A8: =Inscription!A13 -> 0 | F8: ='Réservé HQ'!C6 -> 0
A9: Section 1 - Période couverte par la présente demande d'appui financier
A10: Date de début | C10: Date de fin | F10: Date limite visée pour le dépôt à Hydro-Québec
A11: ='Mois 27'!C11 -> 0 | F11: =IF(G6<>0,EDATE(G6,39),0) -> 0
A12: Section 2 - Appuis financiers d'autres sources
A13: Dans le cadre du Projet, avez-vous reçu ou prévoyez-vous recevoir des appuis financiers provenant d’autres sources qu'Hydro-Québec et Énergir ?
A14: Si oui, précisez :
A16: Section 3 - Calcul de l'appui financier - Hydro-Québec
C17: #VALUE!
B18: Coûts admissibles ($) A | C18: Appuis financiers maximums ($) B = D Période précédente | E18: Appui financier calculé ($) C = MIN (95% * A ; B) | F18: Appuis financiers maximums pour la prochaine période ($) D = B - C
A19: Analyse diagnostique | C19: ='Mois 27'!F19 -> 0 | D19: ='Mois 27'!G19 -> 0 | E19: =IF(G13="non",MIN(SUM(MIN(0.95*B20,C20),MIN(0.95*B21,C21),MIN(0.95*B19,C19)),D19),0) -> 0 | F19: 0 | G19: =D19-MIN(D19,E19) -> 0
A20: Implantation du SGE | C20: ='Mois 27'!F20 -> 0 | F20: =C20-MIN(C20,B20*0.95) -> 0
A21: Impantation du SIGE | C21: ='Mois 27'!F21 -> 0 | F21: =C21-MIN(C21,B21*0.95) -> 0
A22: Consultant de l'énergie | C22: ='Mois 27'!F22 -> 0 | D22: ='Mois 27'!G22 -> 0 | E22: =IF(G13="non",MIN(B22*0.95,C22),0) -> 0 | F22: =C22-E22 -> 0 | G22: =F22 -> 0
A23: Mesurage et vérification | C23: =MIN(MaxMVAn,D23) -> 0 | D23: ='Mois 27'!G23 -> 0 | E23: =IF(G13="non",MIN(0.95*B23,C23),0) -> 0 | F23: =MIN(MaxMVAn,G23) -> 0 | G23: =D23-MaxMVAn -> 0
A24: Total | B24: =SUM(B19:B23) -> 0 | D24: =SUM(D19:D23) -> 0 | E24: =SUM(E19:E23) -> 0 | G24: =SUM(G19:G23) -> 0
A25: Section 4 - Calcul du versement d'Hydro-Québec pour la période
A26: Montant anticipé résiduel avant la période ($) | E26: ='Mois 27'!E29 -> 0 | F26: E = G de la période précédente
A27: Versement admissible pour la période ($) | E27: =IF(E24>E26,E24-E26,0) -> 0 | F27: F = MIN ( C - F ; 0 )
A28: L’appui financier est débité du montant anticipé et aucun montant supplémentaire n'est versé pour la période.
A29: Montant anticipé résiduel après la période ($) | E29: =IF(E27>0,0,E26-E24) -> 0 | F29: G = MIN ( E - C ; 0 )

Sheet Mois 51
A2: #VALUE! | D2: Formulaire - Demande d'appui financier au 51ᵉ mois Programme Système de gestion de l'énergie
A4: Identification du Projet et du Participant
A5: Nom de l’entreprise (tel qu’il figure dans le registre des entreprises) | E5: Nº d’entreprise du Québec | G5: Date de démarrage du Projet
A6: =Inscription!A8 -> 0 | E6: =Inscription!J8 -> 0 | G6: ='Réservé HQ'!C5 -> 0
A7: Nom de l’usine ou du Site | F7: Nº de projet - Implantation
A8: =Inscription!A13 -> 0 | F8: ='Réservé HQ'!C6 -> 0
A9: Section 1 - Période couverte par la présente demande d'appui financier
A10: Date de début | C10: Date de fin | F10: Date limite visée pour le dépôt à Hydro-Québec
A11: ='Mois 39'!C11 -> 0 | F11: =IF(G6<>0,EDATE(G6,51),0) -> 0
A12: Section 2 - Appuis financiers d'autres sources
A13: Dans le cadre du Projet, avez-vous reçu ou prévoyez-vous recevoir des appuis financiers provenant d’autres sources qu'Hydro-Québec et Énergir ?
A14: Si oui, précisez :
A16: Section 3 - Calcul de l'appui financier - Hydro-Québec
C17: #VALUE!
B18: Coûts admissibles ($) A | C18: Appuis financiers maximums ($) B = D Période précédente | E18: Appui financier calculé ($) C = MIN (95% * A ; B) | F18: Appuis financiers maximums pour la prochaine période ($) D = B - C
A19: Analyse diagnostique | C19: ='Mois 39'!F19 -> 0 | D19: ='Mois 39'!G19 -> 0 | E19: =IF(G13="non",MIN(SUM(MIN(0.95*B20,C20),MIN(0.95*B21,C21),MIN(0.95*B19,C19)),D19),0) -> 0 | F19: 0 | G19: =D19-MIN(D19,E19) -> 0
A20: Implantation du SGE | C20: ='Mois 39'!F20 -> 0 | F20: =C20-MIN(C20,B20*0.95) -> 0
A21: Impantation du SIGE | C21: ='Mois 39'!F21 -> 0 | F21: =C21-MIN(C21,B21*0.95) -> 0
A22: Consultant de l'énergie | C22: ='Mois 39'!F22 -> 0 | D22: ='Mois 39'!G22 -> 0 | E22: =IF(G13="non",MIN(B22*0.95,C22),0) -> 0 | F22: =C22-E22 -> 0 | G22: =F22 -> 0
A23: Mesurage et vérification | C23: =MIN(MaxMVAn,D23) -> 0 | D23: ='Mois 39'!G23 -> 0 | E23: =IF(G13="non",MIN(0.95*B23,C23),0) -> 0 | F23: =MIN(MaxMVAn,G23) -> 0 | G23: =D23-MaxMVAn -> 0
A24: Total | B24: =SUM(B19:B23) -> 0 | D24: =SUM(D19:D23) -> 0 | E24: =SUM(E19:E23) -> 0 | G24: =SUM(G19:G23) -> 0
A25: Section 4 - Calcul du versement d'Hydro-Québec pour la période
A26: Montant anticipé résiduel avant la période ($) | E26: ='Mois 39'!E29 -> 0 | F26: E = G de la période précédente
A27: Versement admissible pour la période ($) | E27: =IF(E24>E26,E24-E26,0) -> 0 | F27: F = MIN ( C - F ; 0 )
A28: L’appui financier est débité du montant anticipé et aucun montant supplémentaire n'est versé pour la période.
A29: Montant anticipé résiduel après la période ($) | E29: =IF(E27>0,0,E26-E24) -> 0 | F29: G = MIN ( E - C ; 0 )

Sheet Mois 63
A2: #VALUE! | D2: Formulaire - Demande d'appui financier au 63e mois Programme Système de gestion de l'énergie
A4: Identification du Projet et du Participant
A5: Nom de l’entreprise (tel qu’il figure dans le registre des entreprises) | E5: Nº d’entreprise du Québec | G5: Date de démarrage du Projet
A6: =Inscription!A8 -> 0 | E6: =Inscription!J8 -> 0 | G6: ='Réservé HQ'!C5 -> 0
A7: Nom de l’usine ou du Site | F7: Nº de projet - Implantation
A8: =Inscription!A13 -> 0 | F8: ='Réservé HQ'!C6 -> 0
A9: Section 1 - Période couverte par la présente demande d'appui financier
A10: Date de début | C10: Date de fin | F10: Date limite visée pour le dépôt à Hydro-Québec
A11: ='Mois 51'!C11 -> 0 | F11: =IF(G6<>0,EDATE(G6,63),0) -> 0
A12: Section 2 - Appuis financiers d'autres sources
A13: Dans le cadre du Projet, avez-vous reçu ou prévoyez-vous recevoir des appuis financiers provenant d’autres sources qu'Hydro-Québec et Énergir ?
A14: Si oui, précisez :
A16: Section 3 - Calcul de l'appui financier - Hydro-Québec
C17: #VALUE!
B18: Coûts admissibles ($) A | C18: Appuis financiers maximums ($) B = D Période précédente | E18: Appui financier calculé ($) C = MIN (95% * A ; B) | F18: Appuis financiers maximums pour la prochaine période ($) D = B - C
A19: Analyse diagnostique | C19: ='Mois 51'!F19 -> 0 | D19: ='Mois 51'!G19 -> 0 | E19: =IF(G13="non",MIN(SUM(MIN(0.95*B20,C20),MIN(0.95*B21,C21),MIN(0.95*B19,C19)),D19),0) -> 0 | F19: 0 | G19: 0
A20: Implantation du SGE | C20: ='Mois 51'!F20 -> 0 | F20: 0
A21: Impantation du SIGE | C21: ='Mois 51'!F21 -> 0 | F21: 0
A22: Consultant de l'énergie | C22: ='Mois 51'!F22 -> 0 | D22: ='Mois 51'!G22 -> 0 | E22: =IF(G13="non",MIN(B22*0.95,C22),0) -> 0 | F22: 0 | G22: =F22 -> 0
A23: Mesurage et vérification | C23: =MIN(MaxMVAn,D23) -> 0 | D23: ='Mois 51'!G23 -> 0 | E23: =IF(G13="non",MIN(0.95*B23,C23),0) -> 0 | F23: =MIN(MaxMVAn,G23) -> 0 | G23: =D23-MaxMVAn -> 0
A24: Total | B24: =SUM(B19:B23) -> 0 | D24: =SUM(D19:D23) -> 0 | E24: =SUM(E19:E23) -> 0 | G24: =SUM(G19:G23) -> 0
A25: Section 4 - Calcul du versement d'Hydro-Québec pour la période
A26: Montant anticipé résiduel avant la période ($) | E26: ='Mois 51'!E29 -> 0 | F26: E = G de la période précédente
A27: Versement admissible pour la période ($) | E27: =IF(E24>E26,E24-E26,0) -> 0 | F27: F = MIN ( C - F ; 0 )
A28: L’appui financier est débité du montant anticipé et aucun montant supplémentaire n'est versé pour la période.
A29: Montant anticipé résiduel après la période ($) | E29: =IF(E27>0,0,E26-E24) -> 0 | F29: G = MIN ( E - C ; 0 )

Sheet Mois 75
A2: #VALUE! | D2: Formulaire - Demande d'appui financier au 75e mois Programme Système de gestion de l'énergie
A4: Identification du Projet et du Participant
A5: Nom de l’entreprise (tel qu’il figure dans le registre des entreprises) | E5: Nº d’entreprise du Québec | G5: Date de démarrage du Projet
A6: =Inscription!A8 -> 0 | E6: =Inscription!J8 -> 0 | G6: ='Réservé HQ'!C5 -> 0
A7: Nom de l’usine ou du Site | F7: Nº de projet - Implantation
A8: =Inscription!A13 -> 0 | F8: ='Réservé HQ'!C6 -> 0
A9: Section 1 - Période couverte par la présente demande d'appui financier
A10: Date de début | C10: Date de fin | F10: Date limite visée pour le dépôt à Hydro-Québec
A11: ='Mois 63'!C11 -> 0 | F11: =IF(G6<>0,EDATE(G6,75),0) -> 0
A12: Section 2 - Appuis financiers d'autres sources
A13: Dans le cadre du Projet, avez-vous reçu ou prévoyez-vous recevoir des appuis financiers provenant d’autres sources qu'Hydro-Québec et Énergir ?
A14: Si oui, précisez :
A16: Section 3 - Calcul de l'appui financier - Hydro-Québec
C17: #VALUE!
B18: Coûts admissibles ($) A | C18: Appuis financiers maximums ($) B = D Période précédente | E18: Appui financier calculé ($) C = MIN (95% * A ; B) | F18: Appuis financiers maximums pour la prochaine période ($) D = B - C
A19: Analyse diagnostique | C19: ='Mois 63'!F19 -> 0 | D19: ='Mois 63'!G19 -> 0 | E19: =IF(G13="non",MIN(SUM(MIN(0.95*B20,C20),MIN(0.95*B21,C21),MIN(0.95*B19,C19)),D19),0) -> 0 | F19: 0 | G19: =0 -> 0
A20: Implantation du SGE | C20: ='Mois 63'!F20 -> 0 | F20: 0
A21: Impantation du SIGE | C21: ='Mois 63'!F21 -> 0 | F21: 0
A22: Consultant de l'énergie | C22: ='Mois 63'!F22 -> 0 | D22: ='Mois 63'!G22 -> 0 | E22: =IF(G13="non",MIN(B22*0.95,C22),0) -> 0 | F22: 0 | G22: 0
A23: Mesurage et vérification | C23: =MIN(MaxMVAn,D23) -> 0 | D23: ='Mois 63'!G23 -> 0 | E23: =IF(G13="non",MIN(0.95*B23,C23),0) -> 0 | F23: 0 | G23: 0
A24: Total | B24: =SUM(B19:B23) -> 0 | D24: =SUM(D19:D23) -> 0 | E24: =SUM(E19:E23) -> 0 | G24: =SUM(G19:G23) -> 0
A25: Section 4 - Calcul du versement d'Hydro-Québec pour la période
A26: Montant anticipé résiduel avant la période ($) | E26: ='Mois 51'!E29 -> 0 | F26: E = G de la période précédente
A27: Versement admissible pour la période ($) | E27: =IF(E24>E26,E24-E26,0) -> 0 | F27: F = MIN ( C - F ; 0 )
A28: L’appui financier est débité du montant anticipé et aucun montant supplémentaire n'est versé pour la période.
A29: Montant anticipé résiduel après la période ($) | E29: =IF(E27>0,0,E26-E24) -> 0 | F29: G = MIN ( E - C ; 0 )

Sheet ISO 50001
A2: #VALUE! | C2: Formulaire - Demande de la pime à l'obtention de la certification ISO 500001 Programme Système de gestion de l'énergie
A5: Identification du Projet et du Participant
A6: Nom de l’entreprise (tel qu’il figure dans le registre des entreprises) | E6: Nº d’entreprise du Québec | F6: Date de démarrage du Projet
A7: =Inscription!A8 -> 0 | E7: =Inscription!J8 -> 0 | F7: ='Réservé HQ'!C5 -> 0
A8: Nom de l’usine ou du Site | F8: Nº de projet - Implantation
A9: =Inscription!A13 -> 0 | F9: ='Réservé HQ'!C6 -> 0
E10: =IF(Inscription!F25="oui",0,IF(Inscription!J18=RefMenu!C23,0,IF(ConsoAvant<1,0,IF(F17<F7,0,1)))) -> 0
E11: Date maximum pour le dépôt à Hydro-Québec
E12: =IF(F7<>0,EDATE(F7,27),0) -> 0
A13: Section 1 - Appuis financiers d'autres sources
A14: Dans le cadre du Projet, avez-vous reçu ou prévoyez-vous recevoir des appuis financiers provenant d’autres sources qu'Hydro-Québec et Énergir ?
A15: Si oui, précisez :
A16: Section 2 - Date des jalons pour l'obtention de la Prime
A17: Date de la demande de certification à l'organisme de certification | F17: 45703
A18: Date de transmission à Hydro-Québec du Formulaire de demande de certification et de la Certification | F18: 46067
A19: Délais de transmission des documents depuis la Date de démarrage du Projet | F19: =IF(F17<>"",IF($F$18<$F$7,"Erreur",ROUNDUP(DATEDIF($F$7, $F$18, "m")+($F$18-EDATE($F$7,DATEDIF($F$7, $F$18, "m")))/31,1)),0) -> 1513.5
A20: Section 3 - Calcul de la prime pour la Certification ISO 50001
A21: Consommation d'électricité annuelle avant le Projet (kWh) | D21: =ConsoAvant -> 0
A22: Prime potentielle selon la consommation annuelle ($) | D22: =IF(ConsoAvant>0,_xlfn.XLOOKUP(ConsoAvant,Tableau1[Consommation max],Tableau1[Appui],0,1,1),0) -> 0
A23: Pourcentage de la Prime admissible selon la date de transmission (%) | D23: =_xlfn.XLOOKUP(F19,Tableau2[Mois_Max],Tableau2[Pourcentage],0,1,1) -> 0
A24: Prime certification ISO 50001 admissible ($) | D24: =D22*D23*VerifAdmissible -> 0
A27: {=IF(Inscription!F25="Oui",ISOErreur1,IF(Inscription!J18=RefMenu!C23,ISOErreur2,IF(F17<F7,ISOErreur3,"")))} | F27: Réservé à l'administration
F28: Nº de projet - Certification ISO
F29: ='Réservé HQ'!$C$7 -> 0

Sheet Perfo. - 1
A2: #VALUE! | D2: Formulaire - Demande d'appui financier pour l'incitatif à la performance - Année 1 Programme Système de gestion de l'énergie
A5: Identification du Projet et du Participant
A6: Nom de l’entreprise (tel qu’il figure dans le registre des entreprises) | F6: Nº d’entreprise du Québec | G6: Date de démarrage du Projet
A7: =Inscription!A8 -> 0 | F7: =Inscription!J8 -> 0 | G7: ='Réservé HQ'!C5 -> 0
A8: Nom de l’usine ou du Site | G8: Nº de projet - Implantation
A9: =Inscription!A13 -> 0 | G9: ='Réservé HQ'!C6 -> 0
A10: Section 1 - Période couverte par la présente demande d'appui financier
A11: Date de début | C11: Date de fin | F11: Une demande d'appui financier pour l'incitatif à la performance peut être déposée à partir du mois 15. Voir le Guide de participation pour les jalons.
C12: =IF(A12>0,DATE(YEAR(A12)+1,MONTH(A12),DAY(A12)-1),0) -> 0
A13: Section 2 - Appuis financiers d'autres sources
A14: Dans le cadre du Projet, avez-vous reçu ou prévoyez-vous recevoir des appuis financiers provenant d’autres sources qu'Hydro-Québec et Énergir ?
A15: Si oui, précisez :
A16: Section 3 - Calcul de l'appui financier pour l'incitatif à la performance
A17: Économies d'énergie admissibles pour la période (kWh / an) | H17: kWh / an
A18: Montant de l'incitatif ($ / kWh) | G18: =_xlfn.XLOOKUP(tarif,Tableau3[Tarif],Tableau3[Appui]) -> #N/A | H18: $ / kWh
A19: Incitatif à la performance admissible pour la période ($) | G19: =IF(H14="Non",MIN(G17*G18,_xlfn.XLOOKUP(tarif,Tableau3[Tarif],Tableau3[Maximum])),0) -> 0 | H19: $
A20: Montant cumulatif de l'incitatif à la performance ($) | G20: =G19 -> 0 | H20: $
A21: Vous avez atteint le plafond d'appui financier pour l'incitatif à la performance. | G21: =_xlfn.XLOOKUP(tarif,Tableau3[Tarif],Tableau3[Maximum]) -> #N/A
G24: Réservé à l'administration
G25: Nº de projet - Performance 1

Sheet Perfo. - 2
A2: #VALUE! | D2: Formulaire - Demande d'appui financier pour l'incitatif à la performance - Année 2 Programme Système de gestion de l'énergie
A5: Identification du Projet et du Participant
A6: Nom de l’entreprise (tel qu’il figure dans le registre des entreprises) | F6: Nº d’entreprise du Québec | G6: Date de démarrage du Projet
A7: =Inscription!A8 -> 0 | F7: =Inscription!J8 -> 0 | G7: ='Réservé HQ'!C5 -> 0
A8: Nom de l’usine ou du Site | G8: Nº de projet - Implantation
A9: =Inscription!A13 -> 0 | G9: ='Réservé HQ'!C6 -> 0
A10: Section 1 - Période couverte par la présente demande d'appui financier
A11: Date de début | C11: Date de fin | F11: Un rapport d’Économie d’électricité doit être présenté à chaque date anniversaire suivant le premier rapport.
A12: =IF('Perfo. - 1'!C12>0,'Perfo. - 1'!C12+1,0) -> 0 | C12: =IF(A12>0,DATE(YEAR(A12)+1,MONTH(A12),DAY(A12)-1),0) -> 0
A13: Section 2 - Appuis financiers d'autres sources
A14: Dans le cadre du Projet, avez-vous reçu ou prévoyez-vous recevoir des appuis financiers provenant d’autres sources qu'Hydro-Québec et Énergir ?
A15: Si oui, précisez :
A16: Section 3 - Calcul de l'appui financier pour l'incitatif à la performance
A17: Économies d'énergie admissibles pour la période (kWh / an) | H17: kWh / an
A18: Montant de l'incitatif ($ / kWh) | G18: =_xlfn.XLOOKUP(tarif,Tableau3[Tarif],Tableau3[Appui]) -> #N/A | H18: $ / kWh
A19: Incitatif à la performance admissible pour la période ($) | G19: =IF(H14="Non",MIN(G17*G18,_xlfn.XLOOKUP(tarif,Tableau3[Tarif],Tableau3[Maximum])-'Perfo. - 1'!G20),0) -> 0 | H19: $
A20: Montant cumulatif de l'incitatif à la performance ($) | G20: =G19+'Perfo. - 1'!G20 -> 0 | H20: $
A21: Vous avez atteint le plafond d'appui financier pour l'incitatif à la performance. | G21: =_xlfn.XLOOKUP(tarif,Tableau3[Tarif],Tableau3[Maximum]) -> #N/A
G24: Réservé à l'administration
G25: Nº de projet - Performance 2

Sheet Perfo. - 3
A2: #VALUE! | D2: Formulaire - Demande d'appui financier pour l'incitatif à la performance - Année 3 Programme Système de gestion de l'énergie
A5: Identification du Projet et du Participant
A6: Nom de l’entreprise (tel qu’il figure dans le registre des entreprises) | F6: Nº d’entreprise du Québec | G6: Date de démarrage du Projet
A7: =Inscription!A8 -> 0 | F7: =Inscription!J8 -> 0 | G7: ='Réservé HQ'!C5 -> 0
A8: Nom de l’usine ou du Site | G8: Nº de projet - Implantation
A9: =Inscription!A13 -> 0 | G9: ='Réservé HQ'!C6 -> 0
A10: Section 1 - Période couverte par la présente demande d'appui financier
A11: Date de début | C11: Date de fin | F11: Un rapport d’Économie d’électricité doit être présenté à chaque date anniversaire suivant le premier rapport.
A12: =IF('Perfo. - 2'!C12>0,'Perfo. - 2'!C12+1,0) -> 0 | C12: =IF(A12>0,DATE(YEAR(A12)+1,MONTH(A12),DAY(A12)-1),0) -> 0
A13: Section 2 - Appuis financiers d'autres sources
A14: Dans le cadre du Projet, avez-vous reçu ou prévoyez-vous recevoir des appuis financiers provenant d’autres sources qu'Hydro-Québec et Énergir ?
A15: Si oui, précisez :
A16: Section 3 - Calcul de l'appui financier pour l'incitatif à la performance
A17: Économies d'énergie admissibles pour la période (kWh / an) | H17: kWh / an
A18: Montant de l'incitatif ($ / kWh) | G18: =_xlfn.XLOOKUP(tarif,Tableau3[Tarif],Tableau3[Appui]) -> #N/A | H18: $ / kWh
A19: Incitatif à la performance admissible pour la période ($) | G19: =IF(H14="Non",MIN(G17*G18,_xlfn.XLOOKUP(tarif,Tableau3[Tarif],Tableau3[Maximum])-'Perfo. - 2'!G20),0) -> 0 | H19: $
A20: Montant cumulatif de l'incitatif à la performance ($) | G20: =G19+'Perfo. - 2'!G20 -> 0 | H20: $
A21: Vous avez atteint le plafond d'appui financier pour l'incitatif à la performance. | G21: =_xlfn.XLOOKUP(tarif,Tableau3[Tarif],Tableau3[Maximum]) -> #N/A
G24: Réservé à l'administration
G25: Nº de projet - Performance 3

Sheet Perfo. - 4
A2: #VALUE! | D2: Formulaire - Demande d'appui financier pour l'incitatif à la performance - Année 4 Programme Système de gestion de l'énergie
A5: Identification du Projet et du Participant
A6: Nom de l’entreprise (tel qu’il figure dans le registre des entreprises) | F6: Nº d’entreprise du Québec | G6: Date de démarrage du Projet
A7: =Inscription!A8 -> 0 | F7: =Inscription!J8 -> 0 | G7: ='Réservé HQ'!C5 -> 0
A8: Nom de l’usine ou du Site | G8: Nº de projet - Implantation
A9: =Inscription!A13 -> 0 | G9: ='Réservé HQ'!C6 -> 0
A10: Section 1 - Période couverte par la présente demande d'appui financier
A11: Date de début | C11: Date de fin | F11: Un rapport d’Économie d’électricité doit être présenté à chaque date anniversaire suivant le premier rapport.
A12: =IF('Perfo. - 3'!C12>0,'Perfo. - 3'!C12+1,0) -> 0 | C12: =IF(A12>0,DATE(YEAR(A12)+1,MONTH(A12),DAY(A12)-1),0) -> 0
A13: Section 2 - Appuis financiers d'autres sources
A14: Dans le cadre du Projet, avez-vous reçu ou prévoyez-vous recevoir des appuis financiers provenant d’autres sources qu'Hydro-Québec et Énergir ?
A15: Si oui, précisez :
A16: Section 3 - Calcul de l'appui financier pour l'incitatif à la performance
A17: Économies d'énergie admissibles pour la période (kWh / an) | H17: kWh / an
A18: Montant de l'incitatif ($ / kWh) | G18: =_xlfn.XLOOKUP(tarif,Tableau3[Tarif],Tableau3[Appui]) -> #N/A | H18: $ / kWh
A19: Incitatif à la performance admissible pour la période ($) | G19: =IF(H14="Non",MIN(G17*G18,_xlfn.XLOOKUP(tarif,Tableau3[Tarif],Tableau3[Maximum])-'Perfo. - 3'!G20),0) -> 0 | H19: $
A20: Montant cumulatif de l'incitatif à la performance ($) | G20: =G19+'Perfo. - 3'!G20 -> 0 | H20: $
A21: Vous avez atteint le plafond d'appui financier pour l'incitatif à la performance. | G21: =_xlfn.XLOOKUP(tarif,Tableau3[Tarif],Tableau3[Maximum]) -> #N/A
G24: Réservé à l'administration
G25: Nº de projet - Performance 4

Sheet Perfo. - 5
A2: #VALUE! | D2: Formulaire - Demande d'appui financier pour l'incitatif à la performance - Année 5 Programme Système de gestion de l'énergie
A5: Identification du Projet et du Participant
A6: Nom de l’entreprise (tel qu’il figure dans le registre des entreprises) | F6: Nº d’entreprise du Québec | G6: Date de démarrage du Projet
A7: =Inscription!A8 -> 0 | F7: =Inscription!J8 -> 0 | G7: ='Réservé HQ'!C5 -> 0
A8: Nom de l’usine ou du Site | G8: Nº de projet - Implantation
A9: =Inscription!A13 -> 0 | G9: ='Réservé HQ'!C6 -> 0
A10: Section 1 - Période couverte par la présente demande d'appui financier
A11: Date de début | C11: Date de fin | F11: Un rapport d’Économie d’électricité doit être présenté à chaque date anniversaire suivant le premier rapport.
A12: =IF('Perfo. - 4'!C12>0,'Perfo. - 4'!C12+1,0) -> 0 | C12: =IF(A12>0,DATE(YEAR(A12)+1,MONTH(A12),DAY(A12)-1),0) -> 0
A13: Section 2 - Appuis financiers d'autres sources
A14: Dans le cadre du Projet, avez-vous reçu ou prévoyez-vous recevoir des appuis financiers provenant d’autres sources qu'Hydro-Québec et Énergir ?
A15: Si oui, précisez :
A16: Section 3 - Calcul de l'appui financier pour l'incitatif à la performance
A17: Économies d'énergie admissibles pour la période (kWh / an) | H17: kWh / an
A18: Montant de l'incitatif ($ / kWh) | G18: =_xlfn.XLOOKUP(tarif,Tableau3[Tarif],Tableau3[Appui]) -> #N/A | H18: $ / kWh
A19: Incitatif à la performance admissible pour la période ($) | G19: =IF(H14="Non",MIN(G17*G18,_xlfn.XLOOKUP(tarif,Tableau3[Tarif],Tableau3[Maximum])-'Perfo. - 4'!G20),0) -> 0 | H19: $
A20: Montant cumulatif de l'incitatif à la performance ($) | G20: =G19+'Perfo. - 4'!G20 -> 0 | H20: $
A21: Vous avez atteint le plafond d'appui financier pour l'incitatif à la performance. | G21: =_xlfn.XLOOKUP(tarif,Tableau3[Tarif],Tableau3[Maximum]) -> #N/A
G24: Réservé à l'administration
G25: Nº de projet - Performance 5
